BEGIN:VCALENDAR
VERSION:2.0
PRODID:-//Humanchemie.de - ECPv6.15.17//NONSGML v1.0//EN
CALSCALE:GREGORIAN
METHOD:PUBLISH
X-ORIGINAL-URL:https://www.humanchemie.de
X-WR-CALDESC:Veranstaltungen für Humanchemie.de
REFRESH-INTERVAL;VALUE=DURATION:PT1H
X-Robots-Tag:noindex
X-PUBLISHED-TTL:PT1H
BEGIN:VTIMEZONE
TZID:Europe/Berlin
BEGIN:DAYLIGHT
TZOFFSETFROM:+0100
TZOFFSETTO:+0200
TZNAME:CEST
DTSTART:20250330T010000
END:DAYLIGHT
BEGIN:STANDARD
TZOFFSETFROM:+0200
TZOFFSETTO:+0100
TZNAME:CET
DTSTART:20251026T010000
END:STANDARD
BEGIN:DAYLIGHT
TZOFFSETFROM:+0100
TZOFFSETTO:+0200
TZNAME:CEST
DTSTART:20260329T010000
END:DAYLIGHT
BEGIN:STANDARD
TZOFFSETFROM:+0200
TZOFFSETTO:+0100
TZNAME:CET
DTSTART:20261025T010000
END:STANDARD
BEGIN:DAYLIGHT
TZOFFSETFROM:+0100
TZOFFSETTO:+0200
TZNAME:CEST
DTSTART:20270328T010000
END:DAYLIGHT
BEGIN:STANDARD
TZOFFSETFROM:+0200
TZOFFSETTO:+0100
TZNAME:CET
DTSTART:20271031T010000
END:STANDARD
END:VTIMEZONE
BEGIN:VEVENT
DTSTART;VALUE=DATE:20260508
DTEND;VALUE=DATE:20260510
DTSTAMP:20260422T122323
CREATED:20260324T113033Z
LAST-MODIFIED:20260324T113033Z
UID:8420-1778198400-1778371199@www.humanchemie.de
SUMMARY:Zahnhelden Ostfriesland in Aurich
DESCRIPTION:Am 8. und 9. Mai 2026 findet im Seminarhotel Aurich erstmals der Zahnhelden-Tag in Ostfriesland statt – und wir sind als Aussteller mit dabei. \nDas Event richtet sich an ZFA\, ZMV\, ZMP\, Dentalhygienikerinnen und Behandelnde und bringt das Dentalteam aus der Region zusammen. Zwei Tage vollgepackt mit Fachvorträgen\, Networking und einem Get-together am Abend – ein Format\, das Fortbildung und echten Austausch kombiniert. \nBesucht uns vor Ort \nIhr findet uns direkt auf der Ausstellungsfläche. Nutzt die Gelegenheit\, unsere Produkte live kennenzulernen\, Fragen zu stellen und euch von unserem Team beraten zu lassen – ganz ohne Termindruck und Praxisstress. \nWir freuen uns auf persönliche Gespräche und darauf\, euch zu zeigen\, was unsere Dental-Produkte in eurem Praxisalltag leisten können.
URL:https://www.humanchemie.de/event/zahnhelden-ostfriesland-in-aurich/
LOCATION:Seminarhotel Aurich\, Grüner Weg 2\, Aurich\, Niedersachsen\, 26605\, Germany
CATEGORIES:Messen,National
ATTACH;FMTTYPE=image/png:https://www.humanchemie.de/wp-content/uploads/2026/03/aurich.png
END:VEVENT
END:VCALENDAR